BEGIN:VCALENDAR
VERSION:2.0
PRODID:-//Plone.org//NONSGML plone.app.event//EN
X-WR-TIMEZONE:Europe/Berlin
BEGIN:VEVENT
SUMMARY:Physics Meets Consulting: Blockchain in the Financial Industry
DTSTART;TZID=Europe/Berlin:20240619T153000
DTEND;TZID=Europe/Berlin:20240619T163000
DTSTAMP:20260425T051643Z
UID:6d5ab90eb34b4752a7785b30dbb5d354@www.uni-marburg.de
ATTENDEE;CN="Mathias Hirtschulz, d-fine Consulting";ROLE=REQ-PARTICIPANT:M
 athias Hirtschulz, d-fine Consulting
CREATED:20240301T092201Z
DESCRIPTION:https://www.uni-marburg.de/de/fb13/aktuelles/termine/kolloquiu
 m/sommersemester-2024/physics-meets-consulting-blockchain-in-the-financial
 -industry\nGemeinsames Kolloquium des Fachbereichs Physik und des SFB 1083
LAST-MODIFIED:20240301T144251Z
LOCATION:Fachbereich Physik\, Renthof 5\, Großer Hörsaal
URL:https://www.uni-marburg.de/de/fb13/aktuelles/termine/kolloquium/sommer
 semester-2024/physics-meets-consulting-blockchain-in-the-financial-industr
 y
END:VEVENT
BEGIN:VTIMEZONE
TZID:Europe/Berlin
X-LIC-LOCATION:Europe/Berlin
BEGIN:DAYLIGHT
DTSTART:20240331T030000
TZNAME:CEST
TZOFFSETFROM:+0100
TZOFFSETTO:+0200
END:DAYLIGHT
END:VTIMEZONE
END:VCALENDAR
