BEGIN:VCALENDAR
VERSION:2.0
PRODID:-//Plone.org//NONSGML plone.app.event//EN
X-WR-TIMEZONE:Europe/Berlin
BEGIN:VEVENT
SUMMARY:Bringing fundamental research to pre-commercial low carbon hydroge
 n technologies using electrochemistry
DTSTART;TZID=Europe/Berlin:20230116T161500
DTSTAMP:20260424T023706Z
UID:d11283831171404098eb113a678387ea@www.uni-marburg.de
ATTENDEE;CN="Dr. Sonya Calnan (Helmhotz-Zentrum, Berlin)";ROLE=REQ-PARTICI
 PANT:Dr. Sonya Calnan (Helmhotz-Zentrum, Berlin)
CREATED:20230113T105219Z
DESCRIPTION:https://www.uni-marburg.de/de/fb13/aktuelles/termine/kolloquiu
 m/wintersemester-2023/electrochemical-green-hydrogen-production\nKolloquiu
 m SFB 1083 gemeinsam mit dem Seminar „Physik der grünen Technologien“
LAST-MODIFIED:20230113T112404Z
LOCATION:Renthof 5\, Großer Hörsaal\, und Videokonferenz
URL:https://www.uni-marburg.de/de/fb13/aktuelles/termine/kolloquium/winter
 semester-2023/electrochemical-green-hydrogen-production
END:VEVENT
BEGIN:VTIMEZONE
TZID:Europe/Berlin
X-LIC-LOCATION:Europe/Berlin
BEGIN:STANDARD
DTSTART:20221030T020000
TZNAME:CET
TZOFFSETFROM:+0200
TZOFFSETTO:+0100
END:STANDARD
END:VTIMEZONE
END:VCALENDAR
