BEGIN:VCALENDAR
VERSION:2.0
PRODID:-//Plone.org//NONSGML plone.app.event//EN
X-WR-TIMEZONE:Europe/Berlin
BEGIN:VEVENT
SUMMARY:Pure Hydrocarbon Hosts for High Performance Phosphorescent OLEDs
DTSTART;TZID=Europe/Berlin:20230209T171500
DTSTAMP:20260423T155009Z
UID:e857345109c84441afb4e2a5e178de74@www.uni-marburg.de
ATTENDEE;CN="Dr. Cyril Poriel (CNRS Univ. Rennes)";ROLE=REQ-PARTICIPANT:Dr
 . Cyril Poriel (CNRS Univ. Rennes)
CREATED:20230113T112203Z
DESCRIPTION:https://www.uni-marburg.de/de/fb13/aktuelles/termine/kolloquiu
 m/wintersemester-2023/pure-hydrocarbon-hosts-for-high-performance-phosphor
 escent-oleds\nKolloquium SFB 1083 gemeinsam mit dem FB Chemie
LAST-MODIFIED:20230208T083832Z
LOCATION:HS C Chemie und Videokonferenz
URL:https://www.uni-marburg.de/de/fb13/aktuelles/termine/kolloquium/winter
 semester-2023/pure-hydrocarbon-hosts-for-high-performance-phosphorescent-o
 leds
END:VEVENT
BEGIN:VTIMEZONE
TZID:Europe/Berlin
X-LIC-LOCATION:Europe/Berlin
BEGIN:STANDARD
DTSTART:20221030T020000
TZNAME:CET
TZOFFSETFROM:+0200
TZOFFSETTO:+0100
END:STANDARD
END:VTIMEZONE
END:VCALENDAR
