BEGIN:VCALENDAR
VERSION:2.0
PRODID:-//Plone.org//NONSGML plone.app.event//EN
X-WR-TIMEZONE:Europe/Berlin
BEGIN:VEVENT
SUMMARY:Watch the Atoms Moving: Femtosecond Ultrafast Electron Diffraction
  at Surfaces
DTSTART;TZID=Europe/Berlin:20181108T171500
DTEND;TZID=Europe/Berlin:20181108T184500
DTSTAMP:20260425T045417Z
UID:835baa0f443e4d72b6526f4cb1e5f467@www.uni-marburg.de
ATTENDEE;CN="Prof. Dr. Michael Horn-von Hoegen, Universität Duisburg-Esse
 n";ROLE=REQ-PARTICIPANT:Prof. Dr. Michael Horn-von Hoegen, Universität Du
 isburg-Essen
CREATED:20181019T092804Z
DESCRIPTION:https://www.uni-marburg.de/de/fb13/aktuelles/termine/kolloquiu
 m/wise-18-19/watch-the-atoms-moving-femtosecond-ultrafast-electron-diffrac
 tion-at-surfaces\nKolloquium SFB 1083
LAST-MODIFIED:20181019T093605Z
LOCATION:Fachbereich Physik\, Renthof 5\, Kleiner Hörsaal
URL:https://www.uni-marburg.de/de/fb13/aktuelles/termine/kolloquium/wise-1
 8-19/watch-the-atoms-moving-femtosecond-ultrafast-electron-diffraction-at-
 surfaces
END:VEVENT
BEGIN:VTIMEZONE
TZID:Europe/Berlin
X-LIC-LOCATION:Europe/Berlin
BEGIN:STANDARD
DTSTART:20181028T020000
TZNAME:CET
TZOFFSETFROM:+0200
TZOFFSETTO:+0100
END:STANDARD
END:VTIMEZONE
END:VCALENDAR
