BEGIN:VCALENDAR
VERSION:2.0
PRODID:-//Plone.org//NONSGML plone.app.event//EN
X-WR-TIMEZONE:Europe/Berlin
BEGIN:VEVENT
SUMMARY:Epitaxial Graphene Nanostructures for Future Carbon Based Electron
 ics
DTSTART;TZID=Europe/Berlin:20171116T171500
DTEND;TZID=Europe/Berlin:20171116T184500
DTSTAMP:20260422T024209Z
UID:90450444e1604d4ab357ce34779a7aaa@www.uni-marburg.de
ATTENDEE;CN="Prof. Dr. Christoph Tegenkamp, TU Chemnitz";ROLE=REQ-PARTICIP
 ANT:Prof. Dr. Christoph Tegenkamp, TU Chemnitz
CREATED:20171025T123303Z
DESCRIPTION:https://www.uni-marburg.de/de/fb13/aktuelles/termine/kolloquiu
 m/wise-2017-18/epitaxial-graphene-nanostructures-for-future-carbon-based-e
 lectronics\nKolloquium SFB 1083
LAST-MODIFIED:20171025T123303Z
LOCATION:Fachbereich Physik\, Renthof 5\, Kleiner Hörsaal
URL:https://www.uni-marburg.de/de/fb13/aktuelles/termine/kolloquium/wise-2
 017-18/epitaxial-graphene-nanostructures-for-future-carbon-based-electroni
 cs
END:VEVENT
BEGIN:VTIMEZONE
TZID:Europe/Berlin
X-LIC-LOCATION:Europe/Berlin
BEGIN:STANDARD
DTSTART:20171029T020000
TZNAME:CET
TZOFFSETFROM:+0200
TZOFFSETTO:+0100
END:STANDARD
END:VTIMEZONE
END:VCALENDAR
