BEGIN:VCALENDAR
VERSION:2.0
PRODID:-//Plone.org//NONSGML plone.app.event//EN
X-WR-TIMEZONE:Europe/Berlin
BEGIN:VEVENT
SUMMARY:Playing with Topology: Microwave Experiments Using Coupled Dielect
 ric Resonators
DTSTART;TZID=Europe/Berlin:20171207T171500
DTEND;TZID=Europe/Berlin:20171207T184500
DTSTAMP:20260419T231702Z
UID:796f797d8bdf450a86f4a8e3f3df5268@www.uni-marburg.de
ATTENDEE;CN="Prof. Dr. Ulrich Kuhl, Université Nice Sophia Antipolis, Fra
 nkreich";ROLE=REQ-PARTICIPANT:Prof. Dr. Ulrich Kuhl, Université Nice Soph
 ia Antipolis, Frankreich
CREATED:20171025T130016Z
DESCRIPTION:https://www.uni-marburg.de/de/fb13/aktuelles/termine/kolloquiu
 m/wise-2017-18/playing-with-topology-microwave-experiments-using-coupled-d
 ielectric-resonators\nKolloquium Fachbereich Physik
LAST-MODIFIED:20171025T130016Z
LOCATION:Fachbereich Physik\, Renthof 5\, Kleiner Hörsaal
URL:https://www.uni-marburg.de/de/fb13/aktuelles/termine/kolloquium/wise-2
 017-18/playing-with-topology-microwave-experiments-using-coupled-dielectri
 c-resonators
END:VEVENT
BEGIN:VTIMEZONE
TZID:Europe/Berlin
X-LIC-LOCATION:Europe/Berlin
BEGIN:STANDARD
DTSTART:20171029T020000
TZNAME:CET
TZOFFSETFROM:+0200
TZOFFSETTO:+0100
END:STANDARD
END:VTIMEZONE
END:VCALENDAR
