BEGIN:VCALENDAR
VERSION:2.0
PRODID:-//Plone.org//NONSGML plone.app.event//EN
X-WR-TIMEZONE:Europe/Berlin
BEGIN:VEVENT
SUMMARY:Radio Detection of High-Energy Cosmic-Rays and Neutrinos
DTSTART;TZID=Europe/Berlin:20171123T171500
DTEND;TZID=Europe/Berlin:20171123T184500
DTSTAMP:20260425T025117Z
UID:c38adda4c7c94d8fbefa64a65321e83e@www.uni-marburg.de
ATTENDEE;CN="Dr. Frank Schröder, Karlsruhe Institute of Technology (KIT)"
 ;ROLE=REQ-PARTICIPANT:Dr. Frank Schröder, Karlsruhe Institute of Technolo
 gy (KIT)
CREATED:20171025T125347Z
DESCRIPTION:https://www.uni-marburg.de/de/fb13/aktuelles/termine/kolloquiu
 m/wise-2017-18/radio-detection-of-high-energy-cosmic-rays-and-neutrinos\nK
 olloquium Fachbereich Physik
LAST-MODIFIED:20171025T133840Z
LOCATION:Fachbereich Physik\, Renthof 5\, Kleiner Hörsaal
URL:https://www.uni-marburg.de/de/fb13/aktuelles/termine/kolloquium/wise-2
 017-18/radio-detection-of-high-energy-cosmic-rays-and-neutrinos
END:VEVENT
BEGIN:VTIMEZONE
TZID:Europe/Berlin
X-LIC-LOCATION:Europe/Berlin
BEGIN:STANDARD
DTSTART:20171029T020000
TZNAME:CET
TZOFFSETFROM:+0200
TZOFFSETTO:+0100
END:STANDARD
END:VTIMEZONE
END:VCALENDAR
