BEGIN:VCALENDAR
VERSION:2.0
PRODID:-//Plone.org//NONSGML plone.app.event//EN
X-WR-TIMEZONE:Europe/Berlin
BEGIN:VEVENT
SUMMARY:Orientierungseinheit (empfohlen für Studienanfänger)
DTSTART;TZID=Europe/Berlin:20250929T100000
DTEND;TZID=Europe/Berlin:20251010T200000
DTSTAMP:20260421T100745Z
UID:e2ece100c084498f9082f71555b0ebad@www.uni-marburg.de
CATEGORIES:()
CREATED:20230803T102123Z
DESCRIPTION:https://www.uni-marburg.de/de/fb13/aktuelles/termine/orientier
 ungseinheit\nDie Startveranstaltung für alle Studienanfänger!
LAST-MODIFIED:20250916T164859Z
LOCATION:Großer Hörsaal (29.09. Begrüßung) und Kleiner Hörsaal\, Rent
 hof 5\, sowie Hörsaal Renthof 6
URL:https://www.uni-marburg.de/de/fb13/aktuelles/termine/orientierungseinh
 eit
END:VEVENT
BEGIN:VTIMEZONE
TZID:Europe/Berlin
X-LIC-LOCATION:Europe/Berlin
BEGIN:DAYLIGHT
DTSTART:20250330T030000
TZNAME:CEST
TZOFFSETFROM:+0100
TZOFFSETTO:+0200
END:DAYLIGHT
END:VTIMEZONE
END:VCALENDAR
