BEGIN:VCALENDAR
VERSION:2.0
PRODID:-//Plone.org//NONSGML plone.app.event//EN
X-WR-TIMEZONE:Europe/Berlin
BEGIN:VEVENT
SUMMARY:Light control of phase transitions
DTSTART;TZID=Europe/Berlin:20240603T101500
DTEND;TZID=Europe/Berlin:20240603T120000
DTSTAMP:20260422T121604Z
UID:3febed357d884997bc714318db5203b2@www.uni-marburg.de
ATTENDEE;CN="Herr Prof. Dr. Sheng Meng, Chinese Academy of Sciences, Beiji
 g, China";ROLE=REQ-PARTICIPANT:Herr Prof. Dr. Sheng Meng, Chinese Academy 
 of Sciences, Beijig, China
CREATED:20240528T103251Z
DESCRIPTION:https://www.uni-marburg.de/de/fb13/aktuelles/termine/sfb-1083-
 sonderseminar/light-control-of-phase-transitions\n
LAST-MODIFIED:20240528T103432Z
LOCATION:Renthof 7\, Hörsaal
URL:https://www.uni-marburg.de/de/fb13/aktuelles/termine/sfb-1083-sonderse
 minar/light-control-of-phase-transitions
END:VEVENT
BEGIN:VTIMEZONE
TZID:Europe/Berlin
X-LIC-LOCATION:Europe/Berlin
BEGIN:DAYLIGHT
DTSTART:20240331T030000
TZNAME:CEST
TZOFFSETFROM:+0100
TZOFFSETTO:+0200
END:DAYLIGHT
END:VTIMEZONE
END:VCALENDAR
