BEGIN:VCALENDAR
VERSION:2.0
PRODID:-//Plone.org//NONSGML plone.app.event//EN
X-WR-TIMEZONE:Europe/Berlin
BEGIN:VEVENT
SUMMARY:Vibronic and excitonic fine structures in 2PPE spectra for polyaro
 matic molecular thin film
DTSTART;TZID=Europe/Berlin:20240604T101500
DTEND;TZID=Europe/Berlin:20240604T120000
DTSTAMP:20260423T202449Z
UID:c7499c7db7ef4749968efcab26033b44@www.uni-marburg.de
CREATED:20240528T103410Z
DESCRIPTION:https://www.uni-marburg.de/de/fb13/aktuelles/termine/sfb-1083-
 sonderseminar/vibronic-and-excitonic-fine-structures-in-2ppe-spectra-for-p
 olyaromatic-molecular-thin-film\n
LAST-MODIFIED:20240528T103432Z
LOCATION:Renthof 5\, Seminarraum
URL:https://www.uni-marburg.de/de/fb13/aktuelles/termine/sfb-1083-sonderse
 minar/vibronic-and-excitonic-fine-structures-in-2ppe-spectra-for-polyaroma
 tic-molecular-thin-film
END:VEVENT
BEGIN:VTIMEZONE
TZID:Europe/Berlin
X-LIC-LOCATION:Europe/Berlin
BEGIN:DAYLIGHT
DTSTART:20240331T030000
TZNAME:CEST
TZOFFSETFROM:+0100
TZOFFSETTO:+0200
END:DAYLIGHT
END:VTIMEZONE
END:VCALENDAR
