BEGIN:VCALENDAR
VERSION:2.0
PRODID:-//Plone.org//NONSGML plone.app.event//EN
X-WR-TIMEZONE:Europe/Berlin
BEGIN:VEVENT
SUMMARY:AG Seminar
DTSTART;TZID=Europe/Berlin:20191015T141500
DTEND;TZID=Europe/Berlin:20191015T160000
DTSTAMP:20260422T113058Z
UID:b32162e51e7a493ebcb0c0b6b24422a7@www.uni-marburg.de
RRULE:FREQ=WEEKLY;UNTIL=20200731T000000;BYDAY=TU
EXDATE;TZID=Europe/Berlin:20181211T141500,20190129T141500,20191224T141500,
 20191231T141500,20200107T141500,20200303T141500,20200310T141500,20200317T1
 41500,20200324T141500,20200331T141500,20200407T141500,20200721T141500,2020
 0728T141500,20200804T141500,20200811T141500,20200818T141500,20200825T14150
 0,20200901T141500,20200908T141500,20200915T141500,20200922T141500,20200929
 T141500,20201006T141500
CREATED:20181105T104137Z
DESCRIPTION:https://www.uni-marburg.de/de/fb13/molekulare-festkoerperphysi
 k/aktuelles/termine/ag-seminar\nDas wöchentliche Seminar der Arbeitsgrupp
 e
LAST-MODIFIED:20190926T124737Z
LOCATION:Seminarraum der AG MolFk
URL:https://www.uni-marburg.de/de/fb13/molekulare-festkoerperphysik/aktuel
 les/termine/ag-seminar
END:VEVENT
BEGIN:VTIMEZONE
TZID:Europe/Berlin
X-LIC-LOCATION:Europe/Berlin
BEGIN:DAYLIGHT
DTSTART:20190331T030000
TZNAME:CEST
TZOFFSETFROM:+0100
TZOFFSETTO:+0200
END:DAYLIGHT
END:VTIMEZONE
END:VCALENDAR
