BEGIN:VCALENDAR
VERSION:2.0
PRODID:-//Plone.org//NONSGML plone.app.event//EN
X-WR-TIMEZONE:Europe/Berlin
BEGIN:VEVENT
SUMMARY:ACK: Exploring the Chemical Space of Azaborole Helicenes - A New C
 lass of Chiral Functional Materials
DTSTART;TZID=Europe/Berlin:20231211T171500
DTEND;TZID=Europe/Berlin:20231211T181500
DTSTAMP:20260424T210241Z
UID:70936d66cda04001b9a2239ecab62160@www.uni-marburg.de
ATTENDEE;CN="Jun.-Prof. Dr. Agnieszka Nowak-Król";ROLE=REQ-PARTICIPANT:Ju
 n.-Prof. Dr. Agnieszka Nowak-Król
ATTENDEE;CN="Julius-Maximilians-Universität Würzburg";ROLE=REQ-PARTICIPA
 NT:Julius-Maximilians-Universität Würzburg
CREATED:20231016T154315Z
DESCRIPTION:https://www.uni-marburg.de/de/fb15/aktuelles/termine/ack-explo
 ring-the-chemical-space-of-azaborole-helicenes-a-new-class-of-chiral-funct
 ional-materials\nAnorganisch-Chemisches Kolloquium Wintersemester 2023/24
LAST-MODIFIED:20231016T154321Z
LOCATION:Hörsaal C\, Hörsaalgebäude\, Lahnberge
URL:https://www.uni-marburg.de/de/fb15/aktuelles/termine/ack-exploring-the
 -chemical-space-of-azaborole-helicenes-a-new-class-of-chiral-functional-ma
 terials
END:VEVENT
BEGIN:VTIMEZONE
TZID:Europe/Berlin
X-LIC-LOCATION:Europe/Berlin
BEGIN:STANDARD
DTSTART:20231029T020000
TZNAME:CET
TZOFFSETFROM:+0200
TZOFFSETTO:+0100
END:STANDARD
END:VTIMEZONE
END:VCALENDAR
