BEGIN:VCALENDAR
VERSION:2.0
PRODID:-//Plone.org//NONSGML plone.app.event//EN
X-WR-TIMEZONE:Europe/Berlin
BEGIN:VEVENT
SUMMARY:ACK: Multifunctional MOFs and MOF Composites for Chemical and Phys
 ical Sensing (Prof. Müller-Buschbaum)
DTSTART;TZID=Europe/Berlin:20190701T171500
DTEND;TZID=Europe/Berlin:20190701T181500
DTSTAMP:20260424T210004Z
UID:acd4ab39d0bf4ec88a472defe3f79075@www.uni-marburg.de
ATTENDEE;CN="Prof. Dr. Klaus Müller-Buschbaum";ROLE=REQ-PARTICIPANT:Prof.
  Dr. Klaus Müller-Buschbaum
ATTENDEE;CN="Institut für Anorganische und Analytische Chemie, Justus-Lie
 big-Universität Gießen";ROLE=REQ-PARTICIPANT:Institut für Anorganische 
 und Analytische Chemie, Justus-Liebig-Universität Gießen
ATTENDEE;CN=;ROLE=REQ-PARTICIPANT:
CREATED:20190416T130900Z
DESCRIPTION:https://www.uni-marburg.de/de/fb15/aktuelles/termine/copy3_of_
 c-f-bonds-in-very-tight-spaces-getting-fluorine-to-do-what-it-doesnt-want-
 to-do\nAnorganisch-Chemisches Kolloquium Sommersemester 2019
LAST-MODIFIED:20190625T062347Z
LOCATION:Fachbereich Chemie\, Hörsaalgebäude\, HS C
URL:https://www.uni-marburg.de/de/fb15/aktuelles/termine/copy3_of_c-f-bond
 s-in-very-tight-spaces-getting-fluorine-to-do-what-it-doesnt-want-to-do
END:VEVENT
BEGIN:VTIMEZONE
TZID:Europe/Berlin
X-LIC-LOCATION:Europe/Berlin
BEGIN:DAYLIGHT
DTSTART:20190331T030000
TZNAME:CEST
TZOFFSETFROM:+0100
TZOFFSETTO:+0200
END:DAYLIGHT
END:VTIMEZONE
END:VCALENDAR
