BEGIN:VCALENDAR
VERSION:2.0
PRODID:-//Plone.org//NONSGML plone.app.event//EN
X-WR-TIMEZONE:Europe/Berlin
BEGIN:VEVENT
SUMMARY:Recording successive periods of cellular activity with fluorescent
  probes
DTSTART;TZID=Europe/Berlin:20230201T171500
DTEND;TZID=Europe/Berlin:20230201T181500
DTSTAMP:20260424T025020Z
UID:0bc3ada4a40844b5a0e1dc92e1a9945a@www.uni-marburg.de
ATTENDEE;CN="Prof. Dr. Kai Johnsson, MPI für Medizinische Forschung, Heid
 elberg";ROLE=REQ-PARTICIPANT:Prof. Dr. Kai Johnsson, MPI für Medizinische
  Forschung, Heidelberg
CREATED:20221024T121306Z
DESCRIPTION:https://www.uni-marburg.de/de/fb15/aktuelles/termine/copy3_of_
 titel-n-n\n
LAST-MODIFIED:20221024T122349Z
LOCATION:Hörsaal C
URL:https://www.uni-marburg.de/de/fb15/aktuelles/termine/copy3_of_titel-n-
 n
END:VEVENT
BEGIN:VTIMEZONE
TZID:Europe/Berlin
X-LIC-LOCATION:Europe/Berlin
BEGIN:STANDARD
DTSTART:20221030T020000
TZNAME:CET
TZOFFSETFROM:+0200
TZOFFSETTO:+0100
END:STANDARD
END:VTIMEZONE
END:VCALENDAR
