BEGIN:VCALENDAR
VERSION:2.0
PRODID:-//Plone.org//NONSGML plone.app.event//EN
X-WR-TIMEZONE:Europe/Berlin
BEGIN:VEVENT
SUMMARY:ACK: Methylverbindungen der Erdalkali- und Seltenerdmetalle (Prof.
  Anwander)
DTSTART;TZID=Europe/Berlin:20190715T171500
DTEND;TZID=Europe/Berlin:20190715T181500
DTSTAMP:20260425T044435Z
UID:d4aabf98c1c941c78c37ebc1fa91444e@www.uni-marburg.de
ATTENDEE;CN="Prof. Dr. Reiner Anwander";ROLE=REQ-PARTICIPANT:Prof. Dr. Rei
 ner Anwander
ATTENDEE;CN="Institut für Anorganische Chemie, Universität Tübingen";RO
 LE=REQ-PARTICIPANT:Institut für Anorganische Chemie, Universität Tübing
 en
ATTENDEE;CN=;ROLE=REQ-PARTICIPANT:
CREATED:20190416T130900Z
DESCRIPTION:https://www.uni-marburg.de/de/fb15/aktuelles/termine/copy4_of_
 c-f-bonds-in-very-tight-spaces-getting-fluorine-to-do-what-it-doesnt-want-
 to-do\nAnorganisch-Chemisches Kolloquium Sommersemester 2019
LAST-MODIFIED:20190625T062129Z
LOCATION:Fachbereich Chemie\, Hörsaalgebäude\, HS C
URL:https://www.uni-marburg.de/de/fb15/aktuelles/termine/copy4_of_c-f-bond
 s-in-very-tight-spaces-getting-fluorine-to-do-what-it-doesnt-want-to-do
END:VEVENT
BEGIN:VTIMEZONE
TZID:Europe/Berlin
X-LIC-LOCATION:Europe/Berlin
BEGIN:DAYLIGHT
DTSTART:20190331T030000
TZNAME:CEST
TZOFFSETFROM:+0100
TZOFFSETTO:+0200
END:DAYLIGHT
END:VTIMEZONE
END:VCALENDAR
