BEGIN:VCALENDAR
VERSION:2.0
PRODID:-//Plone.org//NONSGML plone.app.event//EN
X-WR-TIMEZONE:Europe/Berlin
BEGIN:VEVENT
SUMMARY:Neues (und ein wenig altes) vom C2
DTSTART;TZID=Europe/Berlin:20230206T171500
DTEND;TZID=Europe/Berlin:20230206T181500
DTSTAMP:20260423T190739Z
UID:2dfdd7e4ff1e41889a8da7f7a273efc6@www.uni-marburg.de
ATTENDEE;CN="Prof. Dr. Uwe Ruschewitz, Universität Köln";ROLE=REQ-PARTIC
 IPANT:Prof. Dr. Uwe Ruschewitz, Universität Köln
CREATED:20221014T082040Z
DESCRIPTION:https://www.uni-marburg.de/de/fb15/aktuelles/termine/copy4_of_
 durch-katalysatordesign-zu-neuartigen-reaktionen\n
LAST-MODIFIED:20221017T075558Z
LOCATION:Hörsaal C
URL:https://www.uni-marburg.de/de/fb15/aktuelles/termine/copy4_of_durch-ka
 talysatordesign-zu-neuartigen-reaktionen
END:VEVENT
BEGIN:VTIMEZONE
TZID:Europe/Berlin
X-LIC-LOCATION:Europe/Berlin
BEGIN:STANDARD
DTSTART:20221030T020000
TZNAME:CET
TZOFFSETFROM:+0200
TZOFFSETTO:+0100
END:STANDARD
END:VTIMEZONE
END:VCALENDAR
