BEGIN:VCALENDAR
VERSION:2.0
PRODID:-//Plone.org//NONSGML plone.app.event//EN
X-WR-TIMEZONE:Europe/Berlin
BEGIN:VEVENT
SUMMARY:GDCh-Vorträge Sommersemester 2022
DTSTART;TZID=Europe/Berlin:20220601T171500
DTEND;TZID=Europe/Berlin:20220601T181500
DTSTAMP:20260423T231911Z
UID:54eb1ed8e52b413ca3e4aaf805b29dfc@www.uni-marburg.de
RRULE:FREQ=WEEKLY;COUNT=5;BYDAY=WE
RDATE;TZID=Europe/Berlin:20220601T171500,20220608T171500,20220622T171500,2
 0220629T171500,20220706T171500
EXDATE;TZID=Europe/Berlin:20181205T171500,20181212T171500,20181219T171500,
 20181226T171500
ATTENDEE;CN="Prof. Dr. Pavel Jelinek, Prof. Dr. Helge Bode, Prof. Dr. Xinl
 iang Feng, Prof. Dr. Mathias Christmann, Prof. Dr. Manfred Scheer, Prof. D
 r. Peter Hegemann, Prof. Dr. Martina Havenith";ROLE=REQ-PARTICIPANT:Prof. 
 Dr. Pavel Jelinek, Prof. Dr. Helge Bode, Prof. Dr. Xinliang Feng, Prof. Dr
 . Mathias Christmann, Prof. Dr. Manfred Scheer, Prof. Dr. Peter Hegemann, 
 Prof. Dr. Martina Havenith
CREATED:20181127T111328Z
DESCRIPTION:https://www.uni-marburg.de/de/fb15/aktuelles/termine/copy_of_g
 dch-vortraege-wintersemester-2018-2019\nVorträge der Gesellschaft deutsch
 er Chemiker
LAST-MODIFIED:20220531T114013Z
LOCATION:Hörsaal C\, Hörsaalgebäude Chemie\, Lahnberge
URL:https://www.uni-marburg.de/de/fb15/aktuelles/termine/copy_of_gdch-vort
 raege-wintersemester-2018-2019
END:VEVENT
BEGIN:VTIMEZONE
TZID:Europe/Berlin
X-LIC-LOCATION:Europe/Berlin
BEGIN:DAYLIGHT
DTSTART:20220327T030000
TZNAME:CEST
TZOFFSETFROM:+0100
TZOFFSETTO:+0200
END:DAYLIGHT
END:VTIMEZONE
END:VCALENDAR
