BEGIN:VCALENDAR
VERSION:2.0
PRODID:-//Plone.org//NONSGML plone.app.event//EN
X-WR-TIMEZONE:Europe/Berlin
BEGIN:VEVENT
SUMMARY:Abgesagt : Dies Academicus des Fachbereichs Chemie findet NICHT st
 att!
DTSTART;TZID=Europe/Berlin:20211207T150000
DTEND;TZID=Europe/Berlin:20211207T180000
DTSTAMP:20260424T033116Z
UID:74390193484f4832846a72a2c5064c59@www.uni-marburg.de
CREATED:20211029T122804Z
DESCRIPTION:https://www.uni-marburg.de/de/fb15/aktuelles/termine/dies-acad
 emicus-des-fachbereichs-chemie\n
LAST-MODIFIED:20211201T082329Z
LOCATION:Hörsaal A\, Hörsaalgebäude Hans-Meerwein-Straße 8
URL:https://www.uni-marburg.de/de/fb15/aktuelles/termine/dies-academicus-d
 es-fachbereichs-chemie
END:VEVENT
BEGIN:VTIMEZONE
TZID:Europe/Berlin
X-LIC-LOCATION:Europe/Berlin
BEGIN:STANDARD
DTSTART:20211031T020000
TZNAME:CET
TZOFFSETFROM:+0200
TZOFFSETTO:+0100
END:STANDARD
END:VTIMEZONE
END:VCALENDAR
