BEGIN:VCALENDAR
VERSION:2.0
PRODID:-//Plone.org//NONSGML plone.app.event//EN
X-WR-TIMEZONE:Europe/Berlin
BEGIN:VEVENT
SUMMARY:"Inhaltsstoffe des Weines"
DTSTART;TZID=Europe/Berlin:20190920T093000
DTEND;TZID=Europe/Berlin:20190920T163000
DTSTAMP:20260423T221910Z
UID:d61eac208e3b473fb0676f36fd4d670f@www.uni-marburg.de
ATTENDEE;CN="Beate Abé, Elisabeth Rickelt, Prof. Dr. B. Neumüller, Dr. P
 h. Reiß ";ROLE=REQ-PARTICIPANT:Beate Abé, Elisabeth Rickelt, Prof. Dr. B
 . Neumüller, Dr. Ph. Reiß 
CREATED:20190821T123547Z
DESCRIPTION:https://www.uni-marburg.de/de/fb15/aktuelles/termine/inhaltsst
 offe-des-weines\n(Angebotsnummer der Landeslehrkräfteakademie Hessen: 019
 96535\; Anorganische Chemie und Organische Chemie)
LAST-MODIFIED:20190821T123547Z
LOCATION:SR E 035\, Hartmann-Saal (E 047)\, von-Auwers-Saal (E 032).
URL:https://www.uni-marburg.de/de/fb15/aktuelles/termine/inhaltsstoffe-des
 -weines
END:VEVENT
BEGIN:VTIMEZONE
TZID:Europe/Berlin
X-LIC-LOCATION:Europe/Berlin
BEGIN:DAYLIGHT
DTSTART:20190331T030000
TZNAME:CEST
TZOFFSETFROM:+0100
TZOFFSETTO:+0200
END:DAYLIGHT
END:VTIMEZONE
END:VCALENDAR
