BEGIN:VCALENDAR
VERSION:2.0
PRODID:-//Plone.org//NONSGML plone.app.event//EN
X-WR-TIMEZONE:Europe/Berlin
BEGIN:VEVENT
SUMMARY:Mild C–H Arylation of Arenes
DTSTART;TZID=Europe/Berlin:20220630T171500
DTEND;TZID=Europe/Berlin:20220630T181500
DTSTAMP:20260423T190740Z
UID:56b04f7715e14333942ecc50ea556baf@www.uni-marburg.de
ATTENDEE;CN="Prof. Dr. Ilija Čorić";ROLE=REQ-PARTICIPANT:Prof. Dr. Ilija
  Čorić
ATTENDEE;CN="Department of Chemistry, University of Zurich";ROLE=REQ-PARTI
 CIPANT:Department of Chemistry, University of Zurich
CREATED:20220411T080538Z
DESCRIPTION:https://www.uni-marburg.de/de/fb15/aktuelles/termine/mild-c-h-
 arylation-of-arenes\n
LAST-MODIFIED:20220411T080610Z
LOCATION:HS C\, Hörsaalgebäude Lahnberge\, Hans-Meerwein-Straße
URL:https://www.uni-marburg.de/de/fb15/aktuelles/termine/mild-c-h-arylatio
 n-of-arenes
END:VEVENT
BEGIN:VTIMEZONE
TZID:Europe/Berlin
X-LIC-LOCATION:Europe/Berlin
BEGIN:DAYLIGHT
DTSTART:20220327T030000
TZNAME:CEST
TZOFFSETFROM:+0100
TZOFFSETTO:+0200
END:DAYLIGHT
END:VTIMEZONE
END:VCALENDAR
