BEGIN:VCALENDAR
VERSION:2.0
PRODID:-//Plone.org//NONSGML plone.app.event//EN
X-WR-TIMEZONE:Europe/Berlin
BEGIN:VEVENT
SUMMARY:Nucleophilic aluminium: Synthesis\, structural and reaction chemis
 try of the aluminyl anion
DTSTART;TZID=Europe/Berlin:20210412T101500
DTEND;TZID=Europe/Berlin:20210412T111500
DTSTAMP:20260425T043652Z
UID:377764c846a44137bdc755fa95b1efe7@www.uni-marburg.de
ATTENDEE;CN="Dr. Jamie Hicks, ARC DECRA Fellow";ROLE=REQ-PARTICIPANT:Dr. J
 amie Hicks, ARC DECRA Fellow
CREATED:20210408T135403Z
DESCRIPTION:https://www.uni-marburg.de/de/fb15/aktuelles/termine/nucleophi
 lic-aluminium-synthesis-structural-and-reaction-chemistry-of-the-aluminyl-
 anion\n
LAST-MODIFIED:20210408T135611Z
LOCATION:digital\, https://zoom.us/j/94719543546?pwd=VnZtdVVrdk8vOERYcmxOc
 G9wZUtZZz09
URL:https://www.uni-marburg.de/de/fb15/aktuelles/termine/nucleophilic-alum
 inium-synthesis-structural-and-reaction-chemistry-of-the-aluminyl-anion
END:VEVENT
BEGIN:VTIMEZONE
TZID:Europe/Berlin
X-LIC-LOCATION:Europe/Berlin
BEGIN:DAYLIGHT
DTSTART:20210328T030000
TZNAME:CEST
TZOFFSETFROM:+0100
TZOFFSETTO:+0200
END:DAYLIGHT
END:VTIMEZONE
END:VCALENDAR
