BEGIN:VCALENDAR
VERSION:2.0
PRODID:-//Plone.org//NONSGML plone.app.event//EN
X-WR-TIMEZONE:Europe/Berlin
BEGIN:VEVENT
SUMMARY:Quantum-chemical adventures using new methodologies
DTSTART;TZID=Europe/Berlin:20241211T171500
DTEND;TZID=Europe/Berlin:20241211T181500
DTSTAMP:20260424T023851Z
UID:ac8ad4de96e9469481cd5f0d6b1ff467@www.uni-marburg.de
ATTENDEE;CN="Prof. Dr. Martin Kaupp, TU Berlin";ROLE=REQ-PARTICIPANT:Prof.
  Dr. Martin Kaupp, TU Berlin
CREATED:20240930T161639Z
DESCRIPTION:https://www.uni-marburg.de/de/fb15/aktuelles/termine/quantum-c
 hemical-adventures-using-new-methodologies\nVortrag im Rahmen des GDCh-Kol
 loquiums im Wintersemester 2024-25
LAST-MODIFIED:20240930T161705Z
LOCATION:FB Chemie\, Hörsaalgebäude\, HS C
URL:https://www.uni-marburg.de/de/fb15/aktuelles/termine/quantum-chemical-
 adventures-using-new-methodologies
END:VEVENT
BEGIN:VTIMEZONE
TZID:Europe/Berlin
X-LIC-LOCATION:Europe/Berlin
BEGIN:STANDARD
DTSTART:20241027T020000
TZNAME:CET
TZOFFSETFROM:+0200
TZOFFSETTO:+0100
END:STANDARD
END:VTIMEZONE
END:VCALENDAR
