BEGIN:VCALENDAR
VERSION:2.0
PRODID:-//Plone.org//NONSGML plone.app.event//EN
X-WR-TIMEZONE:Europe/Berlin
BEGIN:VEVENT
SUMMARY:Recent Advances in Actinide-Ligand Multiple Bonding
DTSTART;TZID=Europe/Berlin:20241015T171500
DTEND;TZID=Europe/Berlin:20241015T181500
DTSTAMP:20260423T221908Z
UID:8d5e4d96ccf442f7b3e76a5ea2a31133@www.uni-marburg.de
ATTENDEE;CN="Prof. Stephen T. Liddle, The University of Manchester, UK";RO
 LE=REQ-PARTICIPANT:Prof. Stephen T. Liddle, The University of Manchester, 
 UK
CREATED:20240930T161006Z
DESCRIPTION:https://www.uni-marburg.de/de/fb15/aktuelles/termine/recent-ad
 vances-in-actinide-ligand-multiple-bonding\nAlexander-Todd-Hans-Krebs Vorl
 esung der GDCh - gemeinsam mit dem Anorganisch-Chemischen Kolloquium
LAST-MODIFIED:20240930T161449Z
LOCATION:FB Chemie\, Hörsaalgebäude\, HS C
URL:https://www.uni-marburg.de/de/fb15/aktuelles/termine/recent-advances-i
 n-actinide-ligand-multiple-bonding
END:VEVENT
BEGIN:VTIMEZONE
TZID:Europe/Berlin
X-LIC-LOCATION:Europe/Berlin
BEGIN:DAYLIGHT
DTSTART:20240331T030000
TZNAME:CEST
TZOFFSETFROM:+0100
TZOFFSETTO:+0200
END:DAYLIGHT
END:VTIMEZONE
END:VCALENDAR
