BEGIN:VCALENDAR
VERSION:2.0
PRODID:-//Plone.org//NONSGML plone.app.event//EN
X-WR-TIMEZONE:Europe/Berlin
BEGIN:VEVENT
SUMMARY:Dies Academicus: "Uni Marburg - aufgefächert!"
DTSTART;TZID=Europe/Berlin:20180523T200000
DTSTAMP:20260420T205806Z
UID:1cf0b156f8a94aa8bae87620ce117e7e@www.uni-marburg.de
CREATED:20180514T090008Z
DESCRIPTION:https://www.uni-marburg.de/de/fb16/aktuelles/events/dies-acade
 micus-uni-marburg-aufgefaechert\nDer "akademische Tag" 2018
LAST-MODIFIED:20180514T094316Z
LOCATION:Universitätsbibliothek\, Hörsaalgebäude und weitere Orte auf d
 em Campus Firmanei
URL:https://www.uni-marburg.de/de/fb16/aktuelles/events/dies-academicus-un
 i-marburg-aufgefaechert
END:VEVENT
BEGIN:VTIMEZONE
TZID:Europe/Berlin
X-LIC-LOCATION:Europe/Berlin
BEGIN:DAYLIGHT
DTSTART:20180325T030000
TZNAME:CEST
TZOFFSETFROM:+0100
TZOFFSETTO:+0200
END:DAYLIGHT
END:VTIMEZONE
END:VCALENDAR
