BEGIN:VCALENDAR
VERSION:2.0
PRODID:-//Plone.org//NONSGML plone.app.event//EN
X-WR-TIMEZONE:Europe/Berlin
BEGIN:VEVENT
SUMMARY:Arzneimittelgeschichtliche Sammlung in Nürnberg. Ein Werkstattber
 icht.
DTSTART;TZID=Europe/Berlin:20180704T190000
DTEND;TZID=Europe/Berlin:20180704T203000
DTSTAMP:20260424T190604Z
UID:aa7b1ac70d724c6b8068f77ca5205de6@www.uni-marburg.de
ATTENDEE;CN="Prof. Dr. Sörgel, Nürnberg";ROLE=REQ-PARTICIPANT:Prof. Dr. 
 Sörgel, Nürnberg
CREATED:20171101T075528Z
DESCRIPTION:https://www.uni-marburg.de/de/fb16/igphmmr/aktuelles/termine/t
 ermine-2018/arzneimittel-sammlung\nVortrag im Rahmen des Wissenschaftshist
 orischen Kolloquiums im Sommersemester 2018
LAST-MODIFIED:20231123T161939Z
LOCATION:Hörsaal des Instituts für Geschichte der Pharmazie\, Roter Grab
 en 10
URL:https://www.uni-marburg.de/de/fb16/igphmmr/aktuelles/termine/termine-2
 018/arzneimittel-sammlung
END:VEVENT
BEGIN:VTIMEZONE
TZID:Europe/Berlin
X-LIC-LOCATION:Europe/Berlin
BEGIN:DAYLIGHT
DTSTART:20180325T030000
TZNAME:CEST
TZOFFSETFROM:+0100
TZOFFSETTO:+0200
END:DAYLIGHT
END:VTIMEZONE
END:VCALENDAR
