BEGIN:VCALENDAR
VERSION:2.0
PRODID:-//Plone.org//NONSGML plone.app.event//EN
X-WR-TIMEZONE:Europe/Berlin
BEGIN:VEVENT
SUMMARY:„...warum die DDR so feine Dinge nicht hat.“ Die Arzneimittelv
 ersorgung in  der DDR aus Patientensicht 1971-1989
DTSTART;TZID=Europe/Berlin:20190123T190000
DTEND;TZID=Europe/Berlin:20190123T203000
DTSTAMP:20260424T190845Z
UID:3c3fd407886845f6b5d22bc0fc8ba645@www.uni-marburg.de
ATTENDEE;CN="Dr. med. Florian Bruns, M. A., Halle";ROLE=REQ-PARTICIPANT:Dr
 . med. Florian Bruns, M. A., Halle
CREATED:20171101T075528Z
DESCRIPTION:https://www.uni-marburg.de/de/fb16/igphmmr/aktuelles/termine/t
 ermine-2018/arzneimittelversorgung-in-der-ddr\nVortrag im Rahmen des Wisse
 nschaftshistorischen Kolloquiums im Wintersemester 2017/2018
LAST-MODIFIED:20231123T161944Z
LOCATION:Hörsaal des Instituts für Geschichte der Pharmazie\, Roter Grab
 en 10
URL:https://www.uni-marburg.de/de/fb16/igphmmr/aktuelles/termine/termine-2
 018/arzneimittelversorgung-in-der-ddr
END:VEVENT
BEGIN:VTIMEZONE
TZID:Europe/Berlin
X-LIC-LOCATION:Europe/Berlin
BEGIN:STANDARD
DTSTART:20181028T020000
TZNAME:CET
TZOFFSETFROM:+0200
TZOFFSETTO:+0100
END:STANDARD
END:VTIMEZONE
END:VCALENDAR
