BEGIN:VCALENDAR
VERSION:2.0
PRODID:-//Plone.org//NONSGML plone.app.event//EN
X-WR-TIMEZONE:Europe/Berlin
BEGIN:VEVENT
SUMMARY:"Bibergeil\, Adressetiketten und Klemdenbäume" - Herausforderunge
 n bei der Erfassung und Erschließung der Göttinger Pharmakognostischen S
 ammlung
DTSTART;TZID=Europe/Berlin:20180425T190000
DTEND;TZID=Europe/Berlin:20180425T203000
DTSTAMP:20260424T190612Z
UID:779e9753abaa4ea69d61e2ead0991693@www.uni-marburg.de
ATTENDEE;CN="Prof. Dr. Volker Wissemann, Gießen ";ROLE=REQ-PARTICIPANT:Pr
 of. Dr. Volker Wissemann, Gießen 
CREATED:20171101T075528Z
DESCRIPTION:https://www.uni-marburg.de/de/fb16/igphmmr/aktuelles/termine/t
 ermine-2018/bibergeil\nVortrag im Rahmen des Wissenschaftshistorischen Kol
 loquiums im Sommersemester 2018
LAST-MODIFIED:20231123T161937Z
LOCATION:Hörsaal des Instituts für Geschichte der Pharmazie\, Roter Grab
 en 10
URL:https://www.uni-marburg.de/de/fb16/igphmmr/aktuelles/termine/termine-2
 018/bibergeil
END:VEVENT
BEGIN:VTIMEZONE
TZID:Europe/Berlin
X-LIC-LOCATION:Europe/Berlin
BEGIN:DAYLIGHT
DTSTART:20180325T030000
TZNAME:CEST
TZOFFSETFROM:+0100
TZOFFSETTO:+0200
END:DAYLIGHT
END:VTIMEZONE
END:VCALENDAR
