BEGIN:VCALENDAR
VERSION:2.0
PRODID:-//Plone.org//NONSGML plone.app.event//EN
X-WR-TIMEZONE:Europe/Berlin
BEGIN:VEVENT
SUMMARY:Bibliothekswochenende
DTSTART;TZID=Europe/Berlin:20181103T150000
DTEND;TZID=Europe/Berlin:20181104T160000
DTSTAMP:20260424T190850Z
UID:f50d6c95b3aa437a82b20096747a4643@www.uni-marburg.de
CREATED:20171025T095235Z
DESCRIPTION:https://www.uni-marburg.de/de/fb16/igphmmr/aktuelles/termine/t
 ermine-2018/bibliothekswochenende-1\nZusätzliche Öffnung der Institutsbi
 bliothek am Samstag und Sonntag!
LAST-MODIFIED:20231123T175339Z
LOCATION:Institut für Geschichte der Pharmazie\, Roter Graben 10\, Marbur
 g
URL:https://www.uni-marburg.de/de/fb16/igphmmr/aktuelles/termine/termine-2
 018/bibliothekswochenende-1
END:VEVENT
BEGIN:VTIMEZONE
TZID:Europe/Berlin
X-LIC-LOCATION:Europe/Berlin
BEGIN:STANDARD
DTSTART:20181028T020000
TZNAME:CET
TZOFFSETFROM:+0200
TZOFFSETTO:+0100
END:STANDARD
END:VTIMEZONE
END:VCALENDAR
