BEGIN:VCALENDAR
VERSION:2.0
PRODID:-//Plone.org//NONSGML plone.app.event//EN
X-WR-TIMEZONE:Europe/Berlin
BEGIN:VEVENT
SUMMARY:„Charité“ – eine medizinhistorische Erfolgsserie und ihre E
 ntstehung. Ein Gespräch mit den beiden Drehbuchautorinnen
DTSTART;TZID=Europe/Berlin:20180502T190000
DTEND;TZID=Europe/Berlin:20180502T203000
DTSTAMP:20260424T205537Z
UID:d10447cd18094910b9fa0f6a9c12410f@www.uni-marburg.de
ATTENDEE;CN="Dorothee Schön, Ravensburg / Dr. Sabine Thor-Wiedemann, Wein
 garten";ROLE=REQ-PARTICIPANT:Dorothee Schön, Ravensburg / Dr. Sabine Thor
 -Wiedemann, Weingarten
CREATED:20171101T075528Z
DESCRIPTION:https://www.uni-marburg.de/de/fb16/igphmmr/aktuelles/termine/t
 ermine-2018/charite\nVortrag im Rahmen des Wissenschaftshistorischen Kollo
 quiums im Sommersemester 2018
LAST-MODIFIED:20231123T161938Z
LOCATION:(!) Großer Hörsaal\, Bahnhofstr. 7
URL:https://www.uni-marburg.de/de/fb16/igphmmr/aktuelles/termine/termine-2
 018/charite
END:VEVENT
BEGIN:VTIMEZONE
TZID:Europe/Berlin
X-LIC-LOCATION:Europe/Berlin
BEGIN:DAYLIGHT
DTSTART:20180325T030000
TZNAME:CEST
TZOFFSETFROM:+0100
TZOFFSETTO:+0200
END:DAYLIGHT
END:VTIMEZONE
END:VCALENDAR
