BEGIN:VCALENDAR
VERSION:2.0
PRODID:-//Plone.org//NONSGML plone.app.event//EN
X-WR-TIMEZONE:Europe/Berlin
BEGIN:VEVENT
SUMMARY:Genies ohne Nobelpreis. Leben und Werk erfolgloser Preiskandidaten
  in der Medizin
DTSTART;TZID=Europe/Berlin:20180131T190000
DTEND;TZID=Europe/Berlin:20180131T203000
DTSTAMP:20260424T062256Z
UID:10be49dd43de4efe9aafcaacff1c38a5@www.uni-marburg.de
ATTENDEE;CN="Dr. med. Nils Hansson, Düsseldorf";ROLE=REQ-PARTICIPANT:Dr. 
 med. Nils Hansson, Düsseldorf
CREATED:20171101T075528Z
DESCRIPTION:https://www.uni-marburg.de/de/fb16/igphmmr/aktuelles/termine/t
 ermine-2018/copy2_of_kaffee-vom-ziegenfutter-zum-lifestyle-getraenk\nVortr
 ag im Rahmen des Wissenschaftshistorischen Kolloquiums im Wintersemester 2
 017/2018
LAST-MODIFIED:20231123T175338Z
LOCATION:Hörsaal des Instituts für Geschichte der Pharmazie\, Roter Grab
 en 10
URL:https://www.uni-marburg.de/de/fb16/igphmmr/aktuelles/termine/termine-2
 018/copy2_of_kaffee-vom-ziegenfutter-zum-lifestyle-getraenk
END:VEVENT
BEGIN:VTIMEZONE
TZID:Europe/Berlin
X-LIC-LOCATION:Europe/Berlin
BEGIN:STANDARD
DTSTART:20171029T020000
TZNAME:CET
TZOFFSETFROM:+0200
TZOFFSETTO:+0100
END:STANDARD
END:VTIMEZONE
END:VCALENDAR
