BEGIN:VCALENDAR
VERSION:2.0
PRODID:-//Plone.org//NONSGML plone.app.event//EN
X-WR-TIMEZONE:Europe/Berlin
BEGIN:VEVENT
SUMMARY:Die „Entdeckung“ geistiger Behinderung und die Entstehung heil
 pädagogischer Theorie und Praxis
DTSTART;TZID=Europe/Berlin:20180523T190000
DTEND;TZID=Europe/Berlin:20180523T203000
DTSTAMP:20260424T205451Z
UID:f153c2e37937456aa8115e225906f281@www.uni-marburg.de
ATTENDEE;CN="Ass. Prof. Mag. Dr. Johannes Gstach, Wien ";ROLE=REQ-PARTICIP
 ANT:Ass. Prof. Mag. Dr. Johannes Gstach, Wien 
CREATED:20171101T075528Z
DESCRIPTION:https://www.uni-marburg.de/de/fb16/igphmmr/aktuelles/termine/t
 ermine-2018/entdeckung\nVortrag im Rahmen des Wissenschaftshistorischen Ko
 lloquiums im Sommersemester 2018
LAST-MODIFIED:20231123T161938Z
LOCATION:(!) Großer Hörsaal\, Bahnhofstr. 7
URL:https://www.uni-marburg.de/de/fb16/igphmmr/aktuelles/termine/termine-2
 018/entdeckung
END:VEVENT
BEGIN:VTIMEZONE
TZID:Europe/Berlin
X-LIC-LOCATION:Europe/Berlin
BEGIN:DAYLIGHT
DTSTART:20180325T030000
TZNAME:CEST
TZOFFSETFROM:+0100
TZOFFSETTO:+0200
END:DAYLIGHT
END:VTIMEZONE
END:VCALENDAR
