BEGIN:VCALENDAR
VERSION:2.0
PRODID:-//Plone.org//NONSGML plone.app.event//EN
X-WR-TIMEZONE:Europe/Berlin
BEGIN:VEVENT
SUMMARY:Festveranstaltung aus Anlass des 100. Geburtstags von Prof. Dr. Ru
 dolf Schmitz
DTSTART;TZID=Europe/Berlin:20181110T140000
DTEND;TZID=Europe/Berlin:20181110T174500
DTSTAMP:20260424T104001Z
UID:1c5e5ecaae5742a8beaae62eefbefb36@www.uni-marburg.de
CREATED:20180829T133306Z
DESCRIPTION:https://www.uni-marburg.de/de/fb16/igphmmr/aktuelles/termine/t
 ermine-2018/festveranstaltung-rudolf-schmitz\nFestveranstaltung aus Anlass
  des 100. Geburtstags des Gründers des Institutes für Geschichte der Pha
 rmazie Marburg Prof. Dr. Rudolf Schmitz zum Thema „Perspektiven der Phar
 maziegeschichte“
LAST-MODIFIED:20231123T161935Z
LOCATION:Alte Aula\, Philipps-Universität Marburg
URL:https://www.uni-marburg.de/de/fb16/igphmmr/aktuelles/termine/termine-2
 018/festveranstaltung-rudolf-schmitz
END:VEVENT
BEGIN:VTIMEZONE
TZID:Europe/Berlin
X-LIC-LOCATION:Europe/Berlin
BEGIN:STANDARD
DTSTART:20181028T020000
TZNAME:CET
TZOFFSETFROM:+0200
TZOFFSETTO:+0100
END:STANDARD
END:VTIMEZONE
END:VCALENDAR
