BEGIN:VCALENDAR
VERSION:2.0
PRODID:-//Plone.org//NONSGML plone.app.event//EN
X-WR-TIMEZONE:Europe/Berlin
BEGIN:VEVENT
SUMMARY:Abschlussklausur: Geschichte der Naturwissenschaften unter besonde
 rerBerücksichtigung der Pharmazie
DTSTART;TZID=Europe/Berlin:20180702T090000
DTEND;TZID=Europe/Berlin:20180702T100000
DTSTAMP:20260424T205521Z
UID:351d0c51b6c1478bb7566a608360a764@www.uni-marburg.de
CREATED:20180625T133849Z
DESCRIPTION:https://www.uni-marburg.de/de/fb16/igphmmr/aktuelles/termine/t
 ermine-2018/gesch1ss18\n
LAST-MODIFIED:20231123T161941Z
LOCATION:+2/0010 (Audimax)\, HG
URL:https://www.uni-marburg.de/de/fb16/igphmmr/aktuelles/termine/termine-2
 018/gesch1ss18
END:VEVENT
BEGIN:VTIMEZONE
TZID:Europe/Berlin
X-LIC-LOCATION:Europe/Berlin
BEGIN:DAYLIGHT
DTSTART:20180325T030000
TZNAME:CEST
TZOFFSETFROM:+0100
TZOFFSETTO:+0200
END:DAYLIGHT
END:VTIMEZONE
END:VCALENDAR
