BEGIN:VCALENDAR
VERSION:2.0
PRODID:-//Plone.org//NONSGML plone.app.event//EN
X-WR-TIMEZONE:Europe/Berlin
BEGIN:VEVENT
SUMMARY:2. Wiederholungsklausur: Geschichte der Naturwissenschaften unter 
 besonderer Berücksichtigung der Pharmazie
DTSTART;TZID=Europe/Berlin:20181010T140000
DTEND;TZID=Europe/Berlin:20181010T150000
DTSTAMP:20260424T205541Z
UID:8465f74eadc2474e9e78089ef7f59a0d@www.uni-marburg.de
CREATED:20180625T133849Z
DESCRIPTION:https://www.uni-marburg.de/de/fb16/igphmmr/aktuelles/termine/t
 ermine-2018/gesch3ss18\n
LAST-MODIFIED:20231123T161942Z
LOCATION:Raum: 01015 (PHCH Kl.HS)\, MW 8 B
URL:https://www.uni-marburg.de/de/fb16/igphmmr/aktuelles/termine/termine-2
 018/gesch3ss18
END:VEVENT
BEGIN:VTIMEZONE
TZID:Europe/Berlin
X-LIC-LOCATION:Europe/Berlin
BEGIN:DAYLIGHT
DTSTART:20180325T030000
TZNAME:CEST
TZOFFSETFROM:+0100
TZOFFSETTO:+0200
END:DAYLIGHT
END:VTIMEZONE
END:VCALENDAR
