BEGIN:VCALENDAR
VERSION:2.0
PRODID:-//Plone.org//NONSGML plone.app.event//EN
X-WR-TIMEZONE:Europe/Berlin
BEGIN:VEVENT
SUMMARY:Die Mumie des Marburger Museum Anatomicum. Provenienzrecherche an 
 menschlichen Überresten und Grabbeigaben
DTSTART;TZID=Europe/Berlin:20180606T190000
DTEND;TZID=Europe/Berlin:20180606T203000
DTSTAMP:20260424T190605Z
UID:691583f0c8434eff8a57fbdb8c2be023@www.uni-marburg.de
ATTENDEE;CN="Dr. A.-M. Begerock, Berlin/Madrid";ROLE=REQ-PARTICIPANT:Dr. A
 .-M. Begerock, Berlin/Madrid
CREATED:20171101T075528Z
DESCRIPTION:https://www.uni-marburg.de/de/fb16/igphmmr/aktuelles/termine/t
 ermine-2018/mumie\nVortrag im Rahmen des Wissenschaftshistorischen Kolloqu
 iums im Sommersemester 2018
LAST-MODIFIED:20231123T161939Z
LOCATION:(!) Großer Hörsaal\, Bahnhofstr. 7
URL:https://www.uni-marburg.de/de/fb16/igphmmr/aktuelles/termine/termine-2
 018/mumie
END:VEVENT
BEGIN:VTIMEZONE
TZID:Europe/Berlin
X-LIC-LOCATION:Europe/Berlin
BEGIN:DAYLIGHT
DTSTART:20180325T030000
TZNAME:CEST
TZOFFSETFROM:+0100
TZOFFSETTO:+0200
END:DAYLIGHT
END:VTIMEZONE
END:VCALENDAR
