BEGIN:VCALENDAR
VERSION:2.0
PRODID:-//Plone.org//NONSGML plone.app.event//EN
X-WR-TIMEZONE:Europe/Berlin
BEGIN:VEVENT
SUMMARY:Terminologie 1. Wiederholungsklausur Sommersemester 18
DTSTART;TZID=Europe/Berlin:20180626T120000
DTEND;TZID=Europe/Berlin:20180626T130000
DTSTAMP:20260424T190609Z
UID:6f9fa7bfe2c34ddfa3292988824ee9e2@www.uni-marburg.de
CREATED:20180625T133849Z
DESCRIPTION:https://www.uni-marburg.de/de/fb16/igphmmr/aktuelles/termine/t
 ermine-2018/termi1wh18\n
LAST-MODIFIED:20231123T161941Z
LOCATION:Raum: 01003 (PHCH Gr.HS)\, MW 8 B
URL:https://www.uni-marburg.de/de/fb16/igphmmr/aktuelles/termine/termine-2
 018/termi1wh18
END:VEVENT
BEGIN:VTIMEZONE
TZID:Europe/Berlin
X-LIC-LOCATION:Europe/Berlin
BEGIN:DAYLIGHT
DTSTART:20180325T030000
TZNAME:CEST
TZOFFSETFROM:+0100
TZOFFSETTO:+0200
END:DAYLIGHT
END:VTIMEZONE
END:VCALENDAR
