BEGIN:VCALENDAR
VERSION:2.0
PRODID:-//Plone.org//NONSGML plone.app.event//EN
X-WR-TIMEZONE:Europe/Berlin
BEGIN:VEVENT
SUMMARY:Terminologie 2. Wiederholungsklausur Sommersemester 2018
DTSTART;TZID=Europe/Berlin:20181009T100000
DTEND;TZID=Europe/Berlin:20181009T110000
DTSTAMP:20260424T205603Z
UID:a3ba07a9f26240308de5502c782fbd55@www.uni-marburg.de
CREATED:20180625T133849Z
DESCRIPTION:https://www.uni-marburg.de/de/fb16/igphmmr/aktuelles/termine/t
 ermine-2018/termi2wh18\n
LAST-MODIFIED:20231123T161941Z
LOCATION:01015 (PHCH Kl.HS)\, MW 8 B
URL:https://www.uni-marburg.de/de/fb16/igphmmr/aktuelles/termine/termine-2
 018/termi2wh18
END:VEVENT
BEGIN:VTIMEZONE
TZID:Europe/Berlin
X-LIC-LOCATION:Europe/Berlin
BEGIN:DAYLIGHT
DTSTART:20180325T030000
TZNAME:CEST
TZOFFSETFROM:+0100
TZOFFSETTO:+0200
END:DAYLIGHT
END:VTIMEZONE
END:VCALENDAR
