BEGIN:VCALENDAR
VERSION:2.0
PRODID:-//Plone.org//NONSGML plone.app.event//EN
X-WR-TIMEZONE:Europe/Berlin
BEGIN:VEVENT
SUMMARY:Einsicht Klausur Geschichte
DTSTART;TZID=Europe/Berlin:20190723T100000
DTEND;TZID=Europe/Berlin:20190723T110000
DTSTAMP:20260424T190850Z
UID:3dbf9e929d694d5580e244c40dbcb48a@www.uni-marburg.de
CREATED:20190718T071025Z
DESCRIPTION:https://www.uni-marburg.de/de/fb16/igphmmr/aktuelles/termine/t
 ermine-2019/einsicht-klausur-geschichte\nDie Einsicht der Geschichtsklausu
 r vom 15. Juli 2019 findet am Dienstag\, den 23. Juli 2019 von 10 bis 11 U
 hr bei Frau Dr. Ariane Retzar statt.
LAST-MODIFIED:20231123T162408Z
LOCATION:Roter Graben 10\, 35032 Marburg
URL:https://www.uni-marburg.de/de/fb16/igphmmr/aktuelles/termine/termine-2
 019/einsicht-klausur-geschichte
END:VEVENT
BEGIN:VTIMEZONE
TZID:Europe/Berlin
X-LIC-LOCATION:Europe/Berlin
BEGIN:DAYLIGHT
DTSTART:20190331T030000
TZNAME:CEST
TZOFFSETFROM:+0100
TZOFFSETTO:+0200
END:DAYLIGHT
END:VTIMEZONE
END:VCALENDAR
