BEGIN:VCALENDAR
VERSION:2.0
PRODID:-//Plone.org//NONSGML plone.app.event//EN
X-WR-TIMEZONE:Europe/Berlin
BEGIN:VEVENT
SUMMARY:Klausureinsicht Geschichte der Pharmazie
DTSTART;TZID=Europe/Berlin:20190213T160000
DTEND;TZID=Europe/Berlin:20190213T170000
DTSTAMP:20260424T133108Z
UID:b5b52e9e9c5447d295c060a6175cdf17@www.uni-marburg.de
CREATED:20190207T133754Z
DESCRIPTION:https://www.uni-marburg.de/de/fb16/igphmmr/aktuelles/termine/t
 ermine-2019/klausureinsicht-geschichte-der-pharmazie\nDie Klausureinsicht 
 "Geschichte der Pharmazie"\, 1. Klausur WS 18/19\, findet\nstatt bei Prof.
  Friedrich am 13.2.2019 um 16 Uhr.
LAST-MODIFIED:20231123T162404Z
LOCATION:Institut für Geschichte der Pharmazie\, Roter Graben 10
URL:https://www.uni-marburg.de/de/fb16/igphmmr/aktuelles/termine/termine-2
 019/klausureinsicht-geschichte-der-pharmazie
END:VEVENT
BEGIN:VTIMEZONE
TZID:Europe/Berlin
X-LIC-LOCATION:Europe/Berlin
BEGIN:STANDARD
DTSTART:20181028T020000
TZNAME:CET
TZOFFSETFROM:+0200
TZOFFSETTO:+0100
END:STANDARD
END:VTIMEZONE
END:VCALENDAR
