BEGIN:VCALENDAR
VERSION:2.0
PRODID:-//Plone.org//NONSGML plone.app.event//EN
X-WR-TIMEZONE:Europe/Berlin
BEGIN:VEVENT
SUMMARY:Klausureinsicht Terminologie 1. Wdh.
DTSTART;TZID=Europe/Berlin:20190130T100000
DTEND;TZID=Europe/Berlin:20190130T110000
DTSTAMP:20260424T190723Z
UID:b1a77e5d06ae426c9010d6280b4e61ca@www.uni-marburg.de
CREATED:20190121T125948Z
DESCRIPTION:https://www.uni-marburg.de/de/fb16/igphmmr/aktuelles/termine/t
 ermine-2019/klausureinsicht-terminologie-1-wdh\nDie Klausureinsicht findet
  am 30. Januar 2019 zwischen 10 bis 11 Uhr im Institut für Geschichte der
  Pharmazie\, Roter Graben 10\, statt. Bitte im Sekretariat (1. OG) melden.
LAST-MODIFIED:20231123T162402Z
LOCATION:Institut für Geschichte der Pharmazie
URL:https://www.uni-marburg.de/de/fb16/igphmmr/aktuelles/termine/termine-2
 019/klausureinsicht-terminologie-1-wdh
END:VEVENT
BEGIN:VTIMEZONE
TZID:Europe/Berlin
X-LIC-LOCATION:Europe/Berlin
BEGIN:STANDARD
DTSTART:20181028T020000
TZNAME:CET
TZOFFSETFROM:+0200
TZOFFSETTO:+0100
END:STANDARD
END:VTIMEZONE
END:VCALENDAR
