BEGIN:VCALENDAR
VERSION:2.0
PRODID:-//Plone.org//NONSGML plone.app.event//EN
X-WR-TIMEZONE:Europe/Berlin
BEGIN:VEVENT
SUMMARY:Vorstellungsvorträge
DTSTART;TZID=Europe/Berlin:20191112T090000
DTEND;TZID=Europe/Berlin:20191112T170000
DTSTAMP:20260424T190848Z
UID:3648f87549aa48f1b8f291f3b6ab7255@www.uni-marburg.de
CREATED:20191106T070426Z
DESCRIPTION:https://www.uni-marburg.de/de/fb16/igphmmr/aktuelles/termine/t
 ermine-2019/vorstellungsvortraege\nGeschichte der Pharmazie und der Medizi
 n
LAST-MODIFIED:20231123T162409Z
LOCATION:im großen und kleinen Hörsaal\, Marbacher Weg 6-10
URL:https://www.uni-marburg.de/de/fb16/igphmmr/aktuelles/termine/termine-2
 019/vorstellungsvortraege
END:VEVENT
BEGIN:VTIMEZONE
TZID:Europe/Berlin
X-LIC-LOCATION:Europe/Berlin
BEGIN:STANDARD
DTSTART:20191027T020000
TZNAME:CET
TZOFFSETFROM:+0200
TZOFFSETTO:+0100
END:STANDARD
END:VTIMEZONE
END:VCALENDAR
