BEGIN:VCALENDAR
VERSION:2.0
PRODID:-//Plone.org//NONSGML plone.app.event//EN
X-WR-TIMEZONE:Europe/Berlin
BEGIN:VEVENT
SUMMARY:2. Wdh.-Klausur "Pharmazeutische und Medizinische Terminologie"
DTSTART;TZID=Europe/Berlin:20200513T090000
DTEND;TZID=Europe/Berlin:20200513T100000
DTSTAMP:20260425T002812Z
UID:b2ee9b92c7b1439ba3e3b711fbe56b51@www.uni-marburg.de
CREATED:20200423T140248Z
DESCRIPTION:https://www.uni-marburg.de/de/fb16/igphmmr/aktuelles/termine/t
 ermine-2020/2-wdh-klausur-pharmazeutische-und-medizinische-terminologie\n
LAST-MODIFIED:20231123T162509Z
LOCATION:Pharmazeutische Chemie\, Großer Hörsaal\, Kleiner Hörsaal\, Se
 minarraum
URL:https://www.uni-marburg.de/de/fb16/igphmmr/aktuelles/termine/termine-2
 020/2-wdh-klausur-pharmazeutische-und-medizinische-terminologie
END:VEVENT
BEGIN:VTIMEZONE
TZID:Europe/Berlin
X-LIC-LOCATION:Europe/Berlin
BEGIN:DAYLIGHT
DTSTART:20200329T030000
TZNAME:CEST
TZOFFSETFROM:+0100
TZOFFSETTO:+0200
END:DAYLIGHT
END:VTIMEZONE
END:VCALENDAR
