BEGIN:VCALENDAR
VERSION:2.0
PRODID:-//Plone.org//NONSGML plone.app.event//EN
X-WR-TIMEZONE:Europe/Berlin
BEGIN:VEVENT
SUMMARY:Einsicht 1. Wiederholung Geschichte der Pharmazie
DTSTART;TZID=Europe/Berlin:20200225T130000
DTEND;TZID=Europe/Berlin:20200225T140000
DTSTAMP:20260424T190812Z
UID:896badbdb7d747fab6a680e0a4d3a988@www.uni-marburg.de
CREATED:20200220T153628Z
DESCRIPTION:https://www.uni-marburg.de/de/fb16/igphmmr/aktuelles/termine/t
 ermine-2020/einsicht-1-wiederholung-geschichte-der-pharmazie\n
LAST-MODIFIED:20231123T162508Z
LOCATION:Institut für Geschichte der Pharmazie\, Roter Graben 10 Marburg
URL:https://www.uni-marburg.de/de/fb16/igphmmr/aktuelles/termine/termine-2
 020/einsicht-1-wiederholung-geschichte-der-pharmazie
END:VEVENT
BEGIN:VTIMEZONE
TZID:Europe/Berlin
X-LIC-LOCATION:Europe/Berlin
BEGIN:STANDARD
DTSTART:20191027T020000
TZNAME:CET
TZOFFSETFROM:+0200
TZOFFSETTO:+0100
END:STANDARD
END:VTIMEZONE
END:VCALENDAR
