BEGIN:VCALENDAR
VERSION:2.0
PRODID:-//Plone.org//NONSGML plone.app.event//EN
X-WR-TIMEZONE:Europe/Berlin
BEGIN:VEVENT
SUMMARY:Einsicht der Klausur für Geschichte vom 16. Juni 2020
DTSTART;TZID=Europe/Berlin:20200623T143000
DTEND;TZID=Europe/Berlin:20200623T153000
DTSTAMP:20260424T211508Z
UID:94e9beed44724b28abf63af65b4eba9c@www.uni-marburg.de
CREATED:20200618T073219Z
DESCRIPTION:https://www.uni-marburg.de/de/fb16/igphmmr/aktuelles/termine/t
 ermine-2020/einsicht-der-klausur-fuer-geschichte-vom-16-juni-2020\nDie Ein
 sichtnahme erfolgt bei Prof. Dr. Christoph Friedrich.
LAST-MODIFIED:20231123T162511Z
LOCATION:Institut für Geschichte der Pharmazie\, Roter Graben 10 in Marbu
 rg
URL:https://www.uni-marburg.de/de/fb16/igphmmr/aktuelles/termine/termine-2
 020/einsicht-der-klausur-fuer-geschichte-vom-16-juni-2020
END:VEVENT
BEGIN:VTIMEZONE
TZID:Europe/Berlin
X-LIC-LOCATION:Europe/Berlin
BEGIN:DAYLIGHT
DTSTART:20200329T030000
TZNAME:CEST
TZOFFSETFROM:+0100
TZOFFSETTO:+0200
END:DAYLIGHT
END:VTIMEZONE
END:VCALENDAR
