BEGIN:VCALENDAR
VERSION:2.0
PRODID:-//Plone.org//NONSGML plone.app.event//EN
X-WR-TIMEZONE:Europe/Berlin
BEGIN:VEVENT
SUMMARY:Einsicht zur Klausur Terminologie vom 10. Juni 2020
DTSTART;TZID=Europe/Berlin:20200618T110000
DTEND;TZID=Europe/Berlin:20200618T120000
DTSTAMP:20260424T190645Z
UID:61073841c04343869d012b1628883d1b@www.uni-marburg.de
CREATED:20200616T111540Z
DESCRIPTION:https://www.uni-marburg.de/de/fb16/igphmmr/aktuelles/termine/t
 ermine-2020/einsicht-zur-klausur-terminologie-vom-10-juni-2020\nDie Einsic
 ht erfolgt bei Prof. Dr. Christoph Friedrich.
LAST-MODIFIED:20231123T162511Z
LOCATION:Institut für Geschichte der Pharmazie\, Roter Graben 10 in Marbu
 rg
URL:https://www.uni-marburg.de/de/fb16/igphmmr/aktuelles/termine/termine-2
 020/einsicht-zur-klausur-terminologie-vom-10-juni-2020
END:VEVENT
BEGIN:VTIMEZONE
TZID:Europe/Berlin
X-LIC-LOCATION:Europe/Berlin
BEGIN:DAYLIGHT
DTSTART:20200329T030000
TZNAME:CEST
TZOFFSETFROM:+0100
TZOFFSETTO:+0200
END:DAYLIGHT
END:VTIMEZONE
END:VCALENDAR
