BEGIN:VCALENDAR
VERSION:2.0
PRODID:-//Plone.org//NONSGML plone.app.event//EN
X-WR-TIMEZONE:Europe/Berlin
BEGIN:VEVENT
SUMMARY:Klausureinsicht 2. Wdh. Geschichte vom 11. Mai 2020
DTSTART;TZID=Europe/Berlin:20200514T143000
DTEND;TZID=Europe/Berlin:20200514T150000
DTSTAMP:20260424T112409Z
UID:609467feaa664d64b1d2ca05407f4d28@www.uni-marburg.de
CREATED:20200513T080307Z
DESCRIPTION:https://www.uni-marburg.de/de/fb16/igphmmr/aktuelles/termine/t
 ermine-2020/klausureinsicht-2-wdh-geschichte-vom-11-mai-2020\n
LAST-MODIFIED:20231123T162510Z
LOCATION:Hörsaal im Institut für Geschichte der Pharmazie\, Roter Graben
  10\, Marburg
URL:https://www.uni-marburg.de/de/fb16/igphmmr/aktuelles/termine/termine-2
 020/klausureinsicht-2-wdh-geschichte-vom-11-mai-2020
END:VEVENT
BEGIN:VTIMEZONE
TZID:Europe/Berlin
X-LIC-LOCATION:Europe/Berlin
BEGIN:DAYLIGHT
DTSTART:20200329T030000
TZNAME:CEST
TZOFFSETFROM:+0100
TZOFFSETTO:+0200
END:DAYLIGHT
END:VTIMEZONE
END:VCALENDAR
