BEGIN:VCALENDAR
VERSION:2.0
PRODID:-//Plone.org//NONSGML plone.app.event//EN
X-WR-TIMEZONE:Europe/Berlin
BEGIN:VEVENT
SUMMARY:Klausureinsicht der 2. Wdh. im Fach "Terminologie" vom 06. Oktober
  2020
DTSTART;TZID=Europe/Berlin:20201013T100000
DTEND;TZID=Europe/Berlin:20201013T110000
DTSTAMP:20260424T232916Z
UID:40b52a1787214f1b99cc9653f869c9b4@www.uni-marburg.de
CREATED:20201007T084046Z
DESCRIPTION:https://www.uni-marburg.de/de/fb16/igphmmr/aktuelles/termine/t
 ermine-2020/klausureinsicht-der-2-wdh-im-fach-terminologie-vom-06-oktober-
 2020\n
LAST-MODIFIED:20231123T162513Z
LOCATION:Büro von Prof. Dr. Christoph Friedrich\, Roter Graben 10 in Marb
 urg
URL:https://www.uni-marburg.de/de/fb16/igphmmr/aktuelles/termine/termine-2
 020/klausureinsicht-der-2-wdh-im-fach-terminologie-vom-06-oktober-2020
END:VEVENT
BEGIN:VTIMEZONE
TZID:Europe/Berlin
X-LIC-LOCATION:Europe/Berlin
BEGIN:DAYLIGHT
DTSTART:20200329T030000
TZNAME:CEST
TZOFFSETFROM:+0100
TZOFFSETTO:+0200
END:DAYLIGHT
END:VTIMEZONE
END:VCALENDAR
