BEGIN:VCALENDAR
VERSION:2.0
PRODID:-//Plone.org//NONSGML plone.app.event//EN
X-WR-TIMEZONE:Europe/Berlin
BEGIN:VEVENT
SUMMARY:"Uneindeutig sensibel - Erfahrungen bei der Arbeit mit einer Unive
 rsitätssammlung" Gastvortrag von Dr. Michael Kraus (Georg-August-Universi
 tät Göttingen)
DTSTART;TZID=Europe/Berlin:20231026T181500
DTEND;TZID=Europe/Berlin:20231026T210000
DTSTAMP:20260425T015042Z
UID:e04c53574da5453ba5ae9c54550fa8d2@www.uni-marburg.de
CREATED:20230630T113105Z
DESCRIPTION:https://www.uni-marburg.de/de/fb16/igphmmr/aktuelles/termine/t
 ermine-2023/auftaktveranstaltung_aesoh_uneindeutig_sensibel\nAuftaktverans
 taltung des BMBF-geförderten Verbundprojekts AESOH: "Agency und Ethik - S
 ensible Objekte in Hochschulsammlungen" am 26.10.2023 ab 18:15
LAST-MODIFIED:20231123T163003Z
LOCATION:Historischer Rathaussaal\, Markt 1\, 35037 Marburg (Lahn)
URL:https://www.uni-marburg.de/de/fb16/igphmmr/aktuelles/termine/termine-2
 023/auftaktveranstaltung_aesoh_uneindeutig_sensibel
END:VEVENT
BEGIN:VTIMEZONE
TZID:Europe/Berlin
X-LIC-LOCATION:Europe/Berlin
BEGIN:DAYLIGHT
DTSTART:20230326T030000
TZNAME:CEST
TZOFFSETFROM:+0100
TZOFFSETTO:+0200
END:DAYLIGHT
END:VTIMEZONE
END:VCALENDAR
