BEGIN:VCALENDAR
VERSION:2.0
PRODID:-//Plone.org//NONSGML plone.app.event//EN
X-WR-TIMEZONE:Europe/Berlin
BEGIN:VEVENT
SUMMARY:Abgesagt: Buchpräsentation und Lesung aus der neuen Biographie EM
 IL von BEHRING 1854-1917 von Ulrike Enke
DTSTART;TZID=Europe/Berlin:20231115T181500
DTSTAMP:20260426T001055Z
UID:75c1bce5017d4b789e7791ed25206fe8@www.uni-marburg.de
ATTENDEE;CN="Dr. Ulrike Enke ";ROLE=REQ-PARTICIPANT:Dr. Ulrike Enke 
ATTENDEE;CN="Moderation: Prof. Dr. Tanja Pommerening";ROLE=REQ-PARTICIPANT
 :Moderation: Prof. Dr. Tanja Pommerening
CREATED:20231027T111352Z
DESCRIPTION:https://www.uni-marburg.de/de/fb16/igphmmr/aktuelles/termine/t
 ermine-2023/buchpraesentation-und-lesung-aus-der-neuen-biographie-emil-von
 -behring-1854-1917-von-ulrike-enke\nBuchpräsentation EMIL von BEHRING 185
 4-1917
LAST-MODIFIED:20231123T163002Z
LOCATION:Großer Hörsaal\, Bahnhofstraße 7\, 35037 Marburg
URL:https://www.uni-marburg.de/de/fb16/igphmmr/aktuelles/termine/termine-2
 023/buchpraesentation-und-lesung-aus-der-neuen-biographie-emil-von-behring
 -1854-1917-von-ulrike-enke
END:VEVENT
BEGIN:VTIMEZONE
TZID:Europe/Berlin
X-LIC-LOCATION:Europe/Berlin
BEGIN:STANDARD
DTSTART:20231029T020000
TZNAME:CET
TZOFFSETFROM:+0200
TZOFFSETTO:+0100
END:STANDARD
END:VTIMEZONE
END:VCALENDAR
