BEGIN:VCALENDAR
VERSION:2.0
PRODID:-//Plone.org//NONSGML plone.app.event//EN
X-WR-TIMEZONE:Europe/Berlin
BEGIN:VEVENT
SUMMARY:Invitation to the evening lecture of the international workshop "D
 ecolonising academic disciplines and collections"
DTSTART;TZID=Europe/Berlin:20230607T190000
DTEND;TZID=Europe/Berlin:20230607T203000
DTSTAMP:20260425T184354Z
UID:1651f7f3fed246d8b5538bb0072f6ef4@www.uni-marburg.de
ATTENDEE;CN="Chair: Tanja Pommerening";ROLE=REQ-PARTICIPANT:Chair: Tanja P
 ommerening
ATTENDEE;CN="Evening lecture: Miranda Lowe (Principal curator at the Natur
 al History Museum London)";ROLE=REQ-PARTICIPANT:Evening lecture: Miranda L
 owe (Principal curator at the Natural History Museum London)
CREATED:20230530T091039Z
DESCRIPTION:https://www.uni-marburg.de/de/fb16/igphmmr/aktuelles/termine/t
 ermine-2023/invitation-to-the-evening-lecture-of-the-international-worksho
 p-decolonising-academic-disciplines-and-collections\n
LAST-MODIFIED:20231123T163000Z
LOCATION:Historic main hall of the municipality\, Markt 1\, 35037 Marburg 
 (Lahn)
URL:https://www.uni-marburg.de/de/fb16/igphmmr/aktuelles/termine/termine-2
 023/invitation-to-the-evening-lecture-of-the-international-workshop-decolo
 nising-academic-disciplines-and-collections
END:VEVENT
BEGIN:VTIMEZONE
TZID:Europe/Berlin
X-LIC-LOCATION:Europe/Berlin
BEGIN:DAYLIGHT
DTSTART:20230326T030000
TZNAME:CEST
TZOFFSETFROM:+0100
TZOFFSETTO:+0200
END:DAYLIGHT
END:VTIMEZONE
END:VCALENDAR
